BEGIN:VCALENDAR
VERSION:2.0
PRODID:-//HKAPI - ECPv5.3.0//NONSGML v1.0//EN
CALSCALE:GREGORIAN
METHOD:PUBLISH
X-WR-CALNAME:HKAPI
X-ORIGINAL-URL:http://18.166.221.213
X-WR-CALDESC:Events for HKAPI
BEGIN:VTIMEZONE
TZID:Asia/Hong_Kong
BEGIN:STANDARD
TZOFFSETFROM:+0800
TZOFFSETTO:+0800
TZNAME:HKT
DTSTART:20220101T000000
END:STANDARD
END:VTIMEZONE
BEGIN:VEVENT
DTSTART;TZID=Asia/Hong_Kong:20220427T150000
DTEND;TZID=Asia/Hong_Kong:20220427T163000
DTSTAMP:20260422T220802
CREATED:20220420T075404Z
LAST-MODIFIED:20220420T075404Z
UID:13232-1651071600-1651077000@18.166.221.213
SUMMARY:Sharing Session – Potential Collaborations with DHCs and Community Pharmacies
DESCRIPTION:Primary Healthcare is one of the key directions of the HKSAR Government\, and the HKAPI is of the view that District Health Centre (DHC) and Community pharmacies have pivotal roles in delivering a holistic healthcare model for patients. \nIn the past two years\, the Public-Private Partnership taskforce (2020-22) engaged with operators of DHC\, DHC Express and Community pharmacies to explore potential collaborations. To help members understand more about the operation DHCs and opportunities for the industry\, the taskforce is organizing a Sharing Session in April. \nProgramme Rundown \n\n\n\nTime\nTopics\nSpeakers\n\n\n15:00 – 15:05\nOpening \n \nMs Sabrina Chan \nSenior Executive Director\, HKAPI\n\n\n15:05 – 15:20\nOverview of District Health Centre – background and the latest development\nMr Patrick Wong \nMember of the Public-Private Partnership (PPP) taskforce\n\n\n15:20 – 15:35\nExperience Sharing – \nThe Hong Kong Society for Rehabilitation (DHC Express operator)\nMs Ng Yuk Mun  \nSenior Physiotherapist\nHead of Allied Health\nHead of Primary Healthcare\nThe Hong Kong Society for Rehabilitation\n\n\n15:35 – 15:50\nExperience Sharing – \nA-Lively Community Pharmacy (Community pharmacy operator)\nMs Ng Yuen Tung  \nPharmacist\nA-Lively Community Pharmacy\nHealth Service\nAberdeen Kai-fong Welfare Association Ltd  \nMs Shou\, Joyce Lilian  \nPharmacist\nA-Lively Community Pharmacy\nHealth Service\nAberdeen Kai-fong Welfare Association Ltd\n\n\n15:50 – 16:05\nExperience Sharing – \nThe Lok Sin Tong Benevolent Society\, Kowloon (DHC Express x Community Pharmacy operator)\nMr Ng Chak Hang Matthew  \nMedical Services Manager\nThe Lok Sin Tong Benevolent Society\, Kowloon  \nMr Cheng Wai Chung  \nHead of Pharmacy Service\nThe Lok Sin Tong Benevolent Society\, Kowloon\n\n\n16:05 – 16:25\nPanel Discussion\nAll guest speakers \nModerator – \nMs Kennis Chang \nMember of the PPP taskforce\n\n\n16:25 – 16:30\nClosing and Way Forward\nMr Fong Wai Ting \nSponsor of the PPP taskforce \nMr Andrew Wong \nLead of the PPP taskforce\n\n\n\nPlease register for the Sharing Session on or before 24 April by email to Ms Catherine Chau (Catherine.chau@hkapi.hk). \nIf you have any questions about the Sharing Session\, don’t hesitate to get in touch with Ms Louisa Yuen (louisa.yuen@hkapi.hk). Thanks.
URL:http://18.166.221.213/event/sharing-session-potential-collaborations-with-dhcs-and-community-pharmacies/
ATTACH;FMTTYPE=image/jpeg:http://18.166.221.213/wp-content/uploads/2022/01/online-courses-banner-min-scaled.jpg
END:VEVENT
END:VCALENDAR